BEGIN:VCALENDAR
VERSION:2.0
PRODID:-//Childrens Theatre of Charleston - ECPv6.15.17//NONSGML v1.0//EN
CALSCALE:GREGORIAN
METHOD:PUBLISH
X-WR-CALNAME:Childrens Theatre of Charleston
X-ORIGINAL-URL:https://ctoc.org
X-WR-CALDESC:Events for Childrens Theatre of Charleston
REFRESH-INTERVAL;VALUE=DURATION:PT1H
X-Robots-Tag:noindex
X-PUBLISHED-TTL:PT1H
BEGIN:VTIMEZONE
TZID:America/Kentucky/Louisville
BEGIN:DAYLIGHT
TZOFFSETFROM:-0500
TZOFFSETTO:-0400
TZNAME:EDT
DTSTART:20250309T070000
END:DAYLIGHT
BEGIN:STANDARD
TZOFFSETFROM:-0400
TZOFFSETTO:-0500
TZNAME:EST
DTSTART:20251102T060000
END:STANDARD
BEGIN:DAYLIGHT
TZOFFSETFROM:-0500
TZOFFSETTO:-0400
TZNAME:EDT
DTSTART:20260308T070000
END:DAYLIGHT
BEGIN:STANDARD
TZOFFSETFROM:-0400
TZOFFSETTO:-0500
TZNAME:EST
DTSTART:20261101T060000
END:STANDARD
BEGIN:DAYLIGHT
TZOFFSETFROM:-0500
TZOFFSETTO:-0400
TZNAME:EDT
DTSTART:20270314T070000
END:DAYLIGHT
BEGIN:STANDARD
TZOFFSETFROM:-0400
TZOFFSETTO:-0500
TZNAME:EST
DTSTART:20271107T060000
END:STANDARD
BEGIN:DAYLIGHT
TZOFFSETFROM:-0500
TZOFFSETTO:-0400
TZNAME:EDT
DTSTART:20280312T070000
END:DAYLIGHT
BEGIN:STANDARD
TZOFFSETFROM:-0400
TZOFFSETTO:-0500
TZNAME:EST
DTSTART:20281105T060000
END:STANDARD
END:VTIMEZONE
BEGIN:VEVENT
DTSTART;TZID=America/Kentucky/Louisville:20260924T000000
DTEND;TZID=America/Kentucky/Louisville:20260927T235959
DTSTAMP:20260421T110517
CREATED:20260226T172002Z
LAST-MODIFIED:20260226T172002Z
UID:10000261-1790208000-1790553599@ctoc.org
SUMMARY:Disney's Finding Nemo JR.
DESCRIPTION:Finding Nemo Jr. follows the heartwarming journey of a young clownfish\, Nemo\, who is captured on his first day of school and taken far from home. His overprotective father\, Marlin\, sets out across the ocean to rescue him\, joined by the lovable and forgetful Dory. Along the way\, they encounter sharks\, sea turtles\, jellyfish\, and new friends who help them discover courage\, trust\, and perseverance in the vast “big blue world.” \n\n\n\nMeanwhile\, Nemo proves his own bravery while trapped in a Sydney aquarium\, teaming up with the Tank Gang to plan an escape. As father and son grow in confidence and learn to believe in themselves—and each other—they are joyfully reunited. Filled with humor\, heart\, and unforgettable music\, this underwater adventure celebrates friendship\, resilience\, and the power of family. 🐠💙
URL:https://ctoc.org/event/disneys-finding-nemo-jr/
LOCATION:Clay Center for the Arts & Sciences\, 1 Clay Square\, Charleston\, WV\, 25301\, United States
CATEGORIES:Home Page,Public Shows
END:VEVENT
BEGIN:VEVENT
DTSTART;TZID=America/Kentucky/Louisville:20261210T000000
DTEND;TZID=America/Kentucky/Louisville:20261213T235959
DTSTAMP:20260421T110517
CREATED:20260226T173043Z
LAST-MODIFIED:20260226T173117Z
UID:10000262-1796860800-1797206399@ctoc.org
SUMMARY:Rudolph the Red-Nosed Reindeer JR.
DESCRIPTION:The holiday classic soars off the screen in this Broadway Junior\, 60-minute musical adaptation of the beloved television special. Filled with holiday hits like “Rudolph the Red-Nosed Reindeer” and “A Holly Jolly Christmas\,” Rudolph the Red-Nosed Reindeer™ JR. features all of your favorite characters including Santa and Mrs. Claus\, Hermey the Elf\, Bumble the Abominable Snow Monster\, Clarice\, Yukon Cornelius and\, of course\, Rudolph. It’s an adventure that teaches us that what makes you different can be what makes you special. \n\n\n\nBecause of his shiny nose\, Rudolph doesn’t feel like he belongs in Christmastown and sets off to find a place that accepts him. Along his journey\, he encounters fellow misfits\, only to realize that home is where he has belonged the whole time. When a storm threatens to keep Santa’s sleigh from taking flight\, it’s up to Rudolph to save Christmas!
URL:https://ctoc.org/event/rudolph-the-red-nosed-reindeer-jr/
LOCATION:Charleston Coliseum & Convention Center\, 200 Civic Center Drive\, Charleston\, West Virginia\, 25301
CATEGORIES:Home Page,Public Shows
END:VEVENT
BEGIN:VEVENT
DTSTART;TZID=America/Kentucky/Louisville:20270415T000000
DTEND;TZID=America/Kentucky/Louisville:20270418T235959
DTSTAMP:20260421T110517
CREATED:20260226T173511Z
LAST-MODIFIED:20260226T175426Z
UID:10000263-1807747200-1808092799@ctoc.org
SUMMARY:Disney's Newsies JR.
DESCRIPTION:Disney’s Newsies JR. is a 60-minute version of the 2012 Broadway musical\, based on the 1992 film. Inspired by the rousing true story of newsboys in turn-of-the-century New York City\, Newsies JR. features a Tony Award-winning score by Alan Menken and Jack Feldman and a book by Tony Award winner Harvey Fierstein. \n\n\n\nWhen powerful newspaper publishers raise prices at the newsboys’ expense\, the charismatic Jack Kelly rallies newsies from across the city to strike against the unfair conditions. Together\, the newsies learn that they are stronger united and create a movement to fight for what’s right.
URL:https://ctoc.org/event/disneys-newsies-jr/
LOCATION:Clay Center for the Arts & Sciences\, 1 Clay Square\, Charleston\, WV\, 25301\, United States
CATEGORIES:Home Page,Public Shows
END:VEVENT
END:VCALENDAR