BEGIN:VCALENDAR
VERSION:2.0
PRODID:-//Childrens Theatre of Charleston - ECPv6.15.17//NONSGML v1.0//EN
CALSCALE:GREGORIAN
METHOD:PUBLISH
X-WR-CALNAME:Childrens Theatre of Charleston
X-ORIGINAL-URL:https://ctoc.org
X-WR-CALDESC:Events for Childrens Theatre of Charleston
REFRESH-INTERVAL;VALUE=DURATION:PT1H
X-Robots-Tag:noindex
X-PUBLISHED-TTL:PT1H
BEGIN:VTIMEZONE
TZID:America/Kentucky/Louisville
BEGIN:DAYLIGHT
TZOFFSETFROM:-0500
TZOFFSETTO:-0400
TZNAME:EDT
DTSTART:20250309T070000
END:DAYLIGHT
BEGIN:STANDARD
TZOFFSETFROM:-0400
TZOFFSETTO:-0500
TZNAME:EST
DTSTART:20251102T060000
END:STANDARD
BEGIN:DAYLIGHT
TZOFFSETFROM:-0500
TZOFFSETTO:-0400
TZNAME:EDT
DTSTART:20260308T070000
END:DAYLIGHT
BEGIN:STANDARD
TZOFFSETFROM:-0400
TZOFFSETTO:-0500
TZNAME:EST
DTSTART:20261101T060000
END:STANDARD
BEGIN:DAYLIGHT
TZOFFSETFROM:-0500
TZOFFSETTO:-0400
TZNAME:EDT
DTSTART:20270314T070000
END:DAYLIGHT
BEGIN:STANDARD
TZOFFSETFROM:-0400
TZOFFSETTO:-0500
TZNAME:EST
DTSTART:20271107T060000
END:STANDARD
END:VTIMEZONE
BEGIN:VEVENT
DTSTART;TZID=America/Kentucky/Louisville:20260322T140000
DTEND;TZID=America/Kentucky/Louisville:20260322T153000
DTSTAMP:20260421T124426
CREATED:20250201T150639Z
LAST-MODIFIED:20251119T134148Z
UID:10000248-1774188000-1774193400@ctoc.org
SUMMARY:Matlida Jr. | Public Show
DESCRIPTION:(approximately 60 Minutes) MTI Musical \n\n\n\nMatilda has astonishing wit\, intelligence… and special powers! She’s unloved by her cruel parents but impresses her schoolteacher\, the highly loveable Miss Honey. Matilda’s school life isn’t completely smooth sailing\, however – the school’s mean headmistress\, Miss Trunchbull\, hates children and just loves thinking up new punishments for those who don’t abide by her rules. But Matilda has courage and cleverness in equal amounts\, and could be the school pupils’ saving grace! \n\n\n\n\n\n\n\nCost: \n\n\n\n$20 Adults\, $15 Students \n\n\n\n\nPurchase Tickets
URL:https://ctoc.org/event/matlida-jr-public-show/2026-03-22/
LOCATION:Clay Center for the Arts & Sciences\, 1 Clay Square\, Charleston\, WV\, 25301\, United States
CATEGORIES:Home Page,Public Shows
ATTACH;FMTTYPE=image/jpeg:https://ctoc.org/wp-content/uploads/2025/02/matilda.jpg
END:VEVENT
BEGIN:VEVENT
DTSTART;TZID=America/Kentucky/Louisville:20260321T190000
DTEND;TZID=America/Kentucky/Louisville:20260321T203000
DTSTAMP:20260421T124426
CREATED:20250201T150639Z
LAST-MODIFIED:20251119T134148Z
UID:10000247-1774119600-1774125000@ctoc.org
SUMMARY:Matlida Jr. | Public Show
DESCRIPTION:(approximately 60 Minutes) MTI Musical \n\n\n\nMatilda has astonishing wit\, intelligence… and special powers! She’s unloved by her cruel parents but impresses her schoolteacher\, the highly loveable Miss Honey. Matilda’s school life isn’t completely smooth sailing\, however – the school’s mean headmistress\, Miss Trunchbull\, hates children and just loves thinking up new punishments for those who don’t abide by her rules. But Matilda has courage and cleverness in equal amounts\, and could be the school pupils’ saving grace! \n\n\n\n\n\n\n\nCost: \n\n\n\n$20 Adults\, $15 Students \n\n\n\n\nPurchase Tickets
URL:https://ctoc.org/event/matlida-jr-public-show/2026-03-21/
LOCATION:Clay Center for the Arts & Sciences\, 1 Clay Square\, Charleston\, WV\, 25301\, United States
CATEGORIES:Home Page,Public Shows
ATTACH;FMTTYPE=image/jpeg:https://ctoc.org/wp-content/uploads/2025/02/matilda.jpg
END:VEVENT
BEGIN:VEVENT
DTSTART;TZID=America/Kentucky/Louisville:20260320T190000
DTEND;TZID=America/Kentucky/Louisville:20260320T203000
DTSTAMP:20260421T124426
CREATED:20250201T150639Z
LAST-MODIFIED:20251119T134148Z
UID:10000246-1774033200-1774038600@ctoc.org
SUMMARY:Matlida Jr. | Public Show
DESCRIPTION:(approximately 60 Minutes) MTI Musical \n\n\n\nMatilda has astonishing wit\, intelligence… and special powers! She’s unloved by her cruel parents but impresses her schoolteacher\, the highly loveable Miss Honey. Matilda’s school life isn’t completely smooth sailing\, however – the school’s mean headmistress\, Miss Trunchbull\, hates children and just loves thinking up new punishments for those who don’t abide by her rules. But Matilda has courage and cleverness in equal amounts\, and could be the school pupils’ saving grace! \n\n\n\n\n\n\n\nCost: \n\n\n\n$20 Adults\, $15 Students \n\n\n\n\nPurchase Tickets
URL:https://ctoc.org/event/matlida-jr-public-show/2026-03-20/
LOCATION:Clay Center for the Arts & Sciences\, 1 Clay Square\, Charleston\, WV\, 25301\, United States
CATEGORIES:Home Page,Public Shows
ATTACH;FMTTYPE=image/jpeg:https://ctoc.org/wp-content/uploads/2025/02/matilda.jpg
END:VEVENT
BEGIN:VEVENT
DTSTART;TZID=America/Kentucky/Louisville:20260319T000000
DTEND;TZID=America/Kentucky/Louisville:20260319T235959
DTSTAMP:20260421T124426
CREATED:20250201T150435Z
LAST-MODIFIED:20251119T133650Z
UID:10000163-1773878400-1773964799@ctoc.org
SUMMARY:Matlida Jr. | School Show
DESCRIPTION:(approximately 60 Minutes) MTI Musical \n\n\n\nMatilda has astonishing wit\, intelligence… and special powers! She’s unloved by her cruel parents but impresses her schoolteacher\, the highly loveable Miss Honey. Matilda’s school life isn’t completely smooth sailing\, however – the school’s mean headmistress\, Miss Trunchbull\, hates children and just loves thinking up new punishments for those who don’t abide by her rules. But Matilda has courage and cleverness in equal amounts\, and could be the school pupils’ saving grace! \n\n\n\n\n\n\n\nThe Children’s Theatre of Charleston is excited to invite you to join us for one or more of our upcoming school shows for the current season!  Our shows will be featured on the Clay Center Stage.   Our shows are a wonderful opportunity to expose your students to live theatre performed by talented local students.   Please contact us to reserve your spot at ctocwv@gmail.com.  Make your reservations early to ensure we have seats for you. \n\n\n\nAdmission:  Admission is $5.00 per student.  Teachers accompanying their classes attend our shows for free.  \n\n\n\nAdditional Adults:  Adults (who are not official chaperones from the school) are welcome to attend the school performances if we have extra seats\, however\, tickets will not be sold to them until all schools have been seated.  Tickets will be sold to additional adults only when available. \n\n\n\nReservations:  Please email LeeAnne Rheinlander at ctocwv@gmail.com   to reserve a date and time.  She will email you a reservation form and confirm  your reservation.   If you have questions\, please email LeeAnne Rheinlander at ctocwv@gmail.com. \n\n\n\nCSOs:  Content\, Standards and Objectives for Children’s Theatre performances are available by clicking here. \n\n\n\nBus Information: We will be sending out information for your bus drivers with your confirmation/receipt letter approximately two weeks before the show.
URL:https://ctoc.org/event/matlida-jr-school-show/
LOCATION:Clay Center for the Arts & Sciences\, 1 Clay Square\, Charleston\, WV\, 25301\, United States
CATEGORIES:Home Page,School Shows
ATTACH;FMTTYPE=image/jpeg:https://ctoc.org/wp-content/uploads/2025/02/matilda.jpg
END:VEVENT
BEGIN:VEVENT
DTSTART;TZID=America/Kentucky/Louisville:20260315T000000
DTEND;TZID=America/Kentucky/Louisville:20260315T235959
DTSTAMP:20260421T124426
CREATED:20260101T122800Z
LAST-MODIFIED:20250610T112923Z
UID:10000194-1773532800-1773619199@ctoc.org
SUMMARY:Move-In for Matilda Jr
DESCRIPTION:
URL:https://ctoc.org/event/move-in-for-matilda-jr/
LOCATION:WV
CATEGORIES:Beyond The Stage
END:VEVENT
BEGIN:VEVENT
DTSTART;TZID=America/Kentucky/Louisville:20260306T000000
DTEND;TZID=America/Kentucky/Louisville:20260308T235959
DTSTAMP:20260421T124426
CREATED:20260101T122700Z
LAST-MODIFIED:20250610T112834Z
UID:10000193-1772755200-1773014399@ctoc.org
SUMMARY:NYTE Competition
DESCRIPTION:
URL:https://ctoc.org/event/nyte-competition/
LOCATION:WV
CATEGORIES:Beyond The Stage
END:VEVENT
END:VCALENDAR